BEGIN:VCALENDAR
VERSION:2.0
PRODID:-//ChamberMaster//Event Calendar 2.0//EN
METHOD:PUBLISH
X-PUBLISHED-TTL:P3D
REFRESH-INTERVAL:P3D
CALSCALE:GREGORIAN
BEGIN:VEVENT
DTSTART:20230208T230000Z
DTEND:20230209T040000Z
X-MICROSOFT-CDO-ALLDAYEVENT:FALSE
SUMMARY:2023 Annual Meeting and Awards Banquet
DESCRIPTION:The Chamber's Annual Meeting and Award Banquet features a social\, dinner\, and awards ceremony to honor outstanding community members and businesses.
X-ALT-DESC;FMTTYPE=text/html:<div style="text-align: center\;"><strong><span style="font-size:22px\;"><span style="font-family:arial\;"><span class="JsGRdQ" style="color: rgb(102\, 47\, 145)\;">The Chamber&#39\;s Annual Meeting and Award Banquet features a social\, dinner\, and awards ceremony to honor outstanding community members and businesses.</span></span></span></strong></div>\n
LOCATION:Hastings City Auditorium
UID:e.2898.1126
SEQUENCE:3
DTSTAMP:20260425T185622Z
URL:https://business.hastingschamber.com/events/details/2023-annual-meeting-and-awards-banquet-1126
END:VEVENT

END:VCALENDAR
