BEGIN:VCALENDAR
VERSION:2.0
PRODID:-//ChamberMaster//Event Calendar 2.0//EN
METHOD:PUBLISH
X-PUBLISHED-TTL:P3D
REFRESH-INTERVAL:P3D
CALSCALE:GREGORIAN
BEGIN:VEVENT
DTSTART:20230201T180000Z
DTEND:20230201T190000Z
X-MICROSOFT-CDO-ALLDAYEVENT:FALSE
SUMMARY:2023 Chamber Member Orientation - February
DESCRIPTION:You are invited to attend The Hastings Area Chamber of Commerce Member Orientation. \n\nCome join us and meet other new chamber members and get informed of the services that the Chamber of Commerce has to offer.\n\nThis Free meeting will be held at the Chamber Development Center located at 301 South Burlington Hastings\, Nebraska.\n\nEach meeting is limited to 15 people. \n\nSnacks will be provided.\n\nFill out the attached form to confirm your spot today!\n\n\nhttps://forms.gle/W6RDSUb6QTHkMmDN9
X-ALT-DESC;FMTTYPE=text/html:<div style="color: rgb(34\, 34\, 34)\; font-family: Arial\, Helvetica\, sans-serif\; font-size: small\;">\n<p style="color: rgb(32\, 33\, 36)\; font-family: docs-Roboto\; text-align: center\;"><span style="color:#800080\;"><span style="font-size:26px\;">You are invited to attend&nbsp\;<span style="letter-spacing: 0px\;">The Hastings Area Chamber of Commerce&nbsp\;</span><span style="letter-spacing: 0px\;">Member Orientation.&nbsp\;</span></span></span></p>\n\n<p style="color: rgb(32\, 33\, 36)\; font-family: docs-Roboto\; text-align: center\;"><span style="font-size:26px\;"><span style="letter-spacing: 0px\;">Come join us and meet other&nbsp\;</span><span style="letter-spacing: 0px\;">new chamber members and&nbsp\;</span><span style="letter-spacing: 0px\;">get informed of the services that the&nbsp\;</span><span style="letter-spacing: 0px\;">Chamber of Commerce has to offer.</span></span></p>\n\n<p style="color: rgb(32\, 33\, 36)\; font-family: docs-Roboto\; text-align: center\;"><span style="font-size:26px\;"><span style="letter-spacing: 0px\;">This Free meeting will be held at&nbsp\;</span><span style="letter-spacing: 0px\;">the Chamber Development Center</span><span style="letter-spacing: 0px\;">&nbsp\;</span><span style="letter-spacing: 0px\;">located at&nbsp\;</span><span style="letter-spacing: 0px\;">301 South Burlington&nbsp\;</span><span style="letter-spacing: 0px\;">Hastings\, Nebraska.</span></span></p>\n\n<p style="color: rgb(32\, 33\, 36)\; font-family: docs-Roboto\; text-align: center\;"><span style="font-size:26px\;"><span style="letter-spacing: 0px\;"><b>Each meeting is limited to 15 people.</b></span><span style="letter-spacing: 0px\;">&nbsp\;</span></span></p>\n\n<p style="color: rgb(32\, 33\, 36)\; font-family: docs-Roboto\; text-align: center\;"><span style="font-size:26px\;"><span style="letter-spacing: 0px\;">Snacks will be provided.</span></span></p>\n\n<p style="color: rgb(32\, 33\, 36)\; font-family: docs-Roboto\; text-align: center\;"><span style="font-size:26px\;"><span style="letter-spacing: 0px\;">Fill out the attached form to confirm your spot today!</span></span></p>\n</div>\n\n<p style="text-align: center\;"><span style="font-size:26px\;"><a data-saferedirecturl="https://www.google.com/url?q=https://forms.gle/W6RDSUb6QTHkMmDN9&amp\;source=gmail&amp\;ust=1669921680154000&amp\;usg=AOvVaw3YlQ1p6NueHC1RVkRrWdWE" href="https://forms.gle/W6RDSUb6QTHkMmDN9" style="color: rgb(17\, 85\, 204)\; font-family: Arial\, Helvetica\, sans-serif\; font-size: small\;" target="_blank">https://forms.gle/<wbr />W6RDSUb6QTHkMmDN9</a></span></p>\n
LOCATION:
UID:e.2898.2177
SEQUENCE:3
DTSTAMP:20260425T202008Z
URL:https://business.hastingschamber.com/events/details/2023-chamber-member-orientation-february-2177
END:VEVENT

END:VCALENDAR
