BEGIN:VCALENDAR
VERSION:2.0
PRODID:-//ChamberMaster//Event Calendar 2.0//EN
METHOD:PUBLISH
X-PUBLISHED-TTL:P3D
REFRESH-INTERVAL:P3D
CALSCALE:GREGORIAN
BEGIN:VEVENT
DTSTART:20250703T010000Z
DTEND:20250703T040000Z
X-MICROSOFT-CDO-ALLDAYEVENT:FALSE
SUMMARY:6th Annual Fireworks Extravaganza
DESCRIPTION:Join us again this year for an evening of music and fireworks. We will be starting off this year's event with a free live concert featuring Nashville recording artist and Hastings native\, Tommy O'Keefe. The show begins at 8:00 pm with our spectacular fireworks show at 10:00 pm. We look forward to another year of celebrating Independence Day with our community! See less
X-ALT-DESC;FMTTYPE=text/html:Join us again this year for an evening of music and fireworks. We will be starting off this year&#39\;s event with a free live concert featuring Nashville recording artist and Hastings native\, Tommy O&#39\;Keefe. The show begins at 8:00 pm with our spectacular fireworks show at 10:00 pm. We look forward to another year of celebrating Independence Day with our community! See less
LOCATION:Jerry Spady Chevrolet 2750 Osborne Dr. E Hastings
UID:e.2898.4185
SEQUENCE:3
DTSTAMP:20260422T065426Z
URL:https://business.hastingschamber.com/events/details/6th-annual-fireworks-extravaganza-4185
END:VEVENT

END:VCALENDAR
