BEGIN:VCALENDAR
VERSION:2.0
PRODID:-//ChamberMaster//Event Calendar 2.0//EN
METHOD:PUBLISH
X-PUBLISHED-TTL:P3D
REFRESH-INTERVAL:P3D
CALSCALE:GREGORIAN
BEGIN:VEVENT
DTSTART:20230223T224500Z
DTEND:20230223T230000Z
X-MICROSOFT-CDO-ALLDAYEVENT:FALSE
SUMMARY:Anniversary Salute - Allo Fiber
DESCRIPTION:Anniversary Salute:\n\nAllo Fiber\n\n725 W 1st Street\n\n20 Years\n\nThursday\, February 23\, 2023\n\n4:45 pm - 5:00 pm
X-ALT-DESC;FMTTYPE=text/html:<div style="text-align: center\;"><strong style="font-size: 22px\; text-align: center\;"><span style="color: rgb(255\, 0\, 0)\;">Anniversary Salute:</span></strong><br style="font-size: 22px\; text-align: center\;" />\n<span style="font-size: 22px\; text-align: center\;">Allo Fiber</span><br style="font-size: 22px\; text-align: center\;" />\n<span style="font-size: 22px\; text-align: center\;">725 W 1st Street</span><br style="font-size: 22px\; text-align: center\;" />\n<span style="font-size: 22px\; text-align: center\;">20 Years</span><br style="font-size: 22px\; text-align: center\;" />\n<span style="font-size: 22px\; text-align: center\;">Thursday</span><span style="font-size: 22px\; text-align: center\;">\, February 23\, 2023</span><br style="font-size: 22px\; text-align: center\;" />\n<span style="font-size: 22px\; text-align: center\;">4:45 pm - 5:00 pm</span><br />\n&nbsp\;</div>\n
LOCATION:
UID:e.2898.2397
SEQUENCE:3
DTSTAMP:20260425T201945Z
URL:https://business.hastingschamber.com/events/details/anniversary-salute-allo-fiber-2397
END:VEVENT

END:VCALENDAR
