BEGIN:VCALENDAR
VERSION:2.0
PRODID:-//ChamberMaster//Event Calendar 2.0//EN
METHOD:PUBLISH
X-PUBLISHED-TTL:P3D
REFRESH-INTERVAL:P3D
CALSCALE:GREGORIAN
BEGIN:VEVENT
DTSTART:20230516T164500Z
DTEND:20230516T171500Z
X-MICROSOFT-CDO-ALLDAYEVENT:FALSE
SUMMARY:Anniversary Salute - City Limits Auto Salvage & Supply
DESCRIPTION:Anniversary Salute:\n\nCity Limits Auto Salvage & Supply\n\n5 Years\n\nTuesday\, May 16th\, 2023\n\n11:45 am - 12:15 pm
X-ALT-DESC;FMTTYPE=text/html:<div style="text-align: center\;"><strong style="font-size: 22px\; text-align: center\;"><span style="color: rgb(255\, 0\, 0)\;">Anniversary Salute:</span></strong><br style="font-size: 22px\; text-align: center\;" />\n<span style="font-size: 22px\; text-align: center\;">City Limits Auto Salvage &amp\; Supply</span><br style="font-size: 22px\; text-align: center\;" />\n<span style="font-size: 22px\; text-align: center\;">5 Years</span><br style="font-size: 22px\; text-align: center\;" />\n<span style="font-size: 22px\; text-align: center\;">Tuesday\, May&nbsp\;16th\, 2023</span><br style="font-size: 22px\; text-align: center\;" />\n<span style="font-size: 22px\; text-align: center\;">11:45 am - 12:15&nbsp\;pm</span><br />\n&nbsp\;</div>\n
LOCATION:
UID:e.2898.2862
SEQUENCE:3
DTSTAMP:20260423T231123Z
URL:https://business.hastingschamber.com/events/details/anniversary-salute-city-limits-auto-salvage-supply-2862
END:VEVENT

END:VCALENDAR
