BEGIN:VCALENDAR
VERSION:2.0
PRODID:-//ChamberMaster//Event Calendar 2.0//EN
METHOD:PUBLISH
X-PUBLISHED-TTL:P3D
REFRESH-INTERVAL:P3D
CALSCALE:GREGORIAN
BEGIN:VEVENT
DTSTART:20220922T214500Z
DTEND:20220922T220000Z
X-MICROSOFT-CDO-ALLDAYEVENT:FALSE
SUMMARY:Anniversary Salute - Hastings College
DESCRIPTION:Anniversary Salute:\n\nHastings College\n\nBarrett Alumni Center\n\n1001 N 6th Avenue\n\n140 Years\n\nThursday\, September 22nd\, 2022\n\n4:45 pm - 5:00 pm
X-ALT-DESC;FMTTYPE=text/html:<div style="text-align: center\;"><span style="font-size:22px\;"><strong><span style="color:#FF0000\;">Anniversary Salute:</span></strong><br />\nHastings College<br />\nBarrett Alumni Center<br />\n1001 N 6th Avenue<br />\n140 Years<br />\nThursday\, September 22nd\, 2022<br />\n4:45 pm - 5:00 pm</span></div>\n
LOCATION:
UID:e.2898.2047
SEQUENCE:3
DTSTAMP:20260425T123529Z
URL:https://business.hastingschamber.com/events/details/anniversary-salute-hastings-college-2047
END:VEVENT

END:VCALENDAR
