BEGIN:VCALENDAR
VERSION:2.0
PRODID:-//ChamberMaster//Event Calendar 2.0//EN
METHOD:PUBLISH
X-PUBLISHED-TTL:P3D
REFRESH-INTERVAL:P3D
CALSCALE:GREGORIAN
BEGIN:VEVENT
DTSTART:20250219T140000Z
DTEND:20250219T150000Z
X-MICROSOFT-CDO-ALLDAYEVENT:FALSE
SUMMARY:Board of Directors Meeting
DESCRIPTION:Chamber Board of Directors Meeting:\n\nChamber Development Center\n\n301 South Burlington Avenue\n\n8:00 am - 9:00 am
X-ALT-DESC;FMTTYPE=text/html:<div style="text-align: center\;"><span style="font-size:22px\;"><span style="color:#FF0000\;">Chamber&nbsp\;Board of Directors Meeting:</span><br />\nChamber Development Center<br />\n301 South Burlington Avenue</span></div>\n\n<div style="text-align: center\;"><span style="font-size:22px\;">8:00 am - 9:00 am</span></div>\n
LOCATION:
UID:e.2898.4005
SEQUENCE:3
DTSTAMP:20260421T110040Z
URL:https://business.hastingschamber.com/events/details/board-of-directors-meeting-02-19-2025-4005
END:VEVENT

END:VCALENDAR
