BEGIN:VCALENDAR
VERSION:2.0
PRODID:-//ChamberMaster//Event Calendar 2.0//EN
METHOD:PUBLISH
X-PUBLISHED-TTL:P3D
REFRESH-INTERVAL:P3D
CALSCALE:GREGORIAN
BEGIN:VEVENT
DTSTART:20260221T180000Z
DTEND:20260221T200000Z
X-MICROSOFT-CDO-ALLDAYEVENT:FALSE
SUMMARY:Brick By Brick
DESCRIPTION:Calling all young creators! Get ready for an exciting afternoon of imagination and hands-on fun with building bricks at the Hastings Museum. From towering skyscrapers to deep-sea adventures\, kids will soar through the skies and dive to the depths of the ocean as we travel the world one brick at a time. Participants will be encouraged to design\, build\, and explore their own creations while developing creativity\, problem-solving skills\, and teamwork. Whether your child dreams of building fantastic creatures\, faraway places\, or amazing vehicles\, this open-ended building experience brings ideas to life in a fun and welcoming environment. This program takes place on February 21 from 12:00 to 2:00 PM and only costs $4 for members\, with non-members paying regular museum admission plus $4. Limited spots are available. Get yours in advance! Perfect for young builders of all skill levels. Come build\, explore\, and let imaginations come alive!
X-ALT-DESC;FMTTYPE=text/html:Calling all young creators! Get ready for an exciting afternoon of imagination and hands-on fun with building bricks at the Hastings Museum. From towering skyscrapers to deep-sea adventures\, kids will soar through the skies and dive to the depths of the ocean as we travel the world one brick at a time. Participants will be encouraged to design\, build\, and explore their own creations while developing creativity\, problem-solving skills\, and teamwork. Whether your child dreams of building fantastic creatures\, faraway places\, or amazing vehicles\, this open-ended building experience brings ideas to life in a fun and welcoming environment. This program takes place on February 21&nbsp\;from 12:00 to 2:00 PM and only costs $4 for members\, with non-members paying regular museum admission plus $4. Limited spots are available. Get yours in advance! Perfect for young builders of all skill levels. Come build\, explore\, and let imaginations come alive!
LOCATION:Hastings Museum
UID:e.2898.4267
SEQUENCE:3
DTSTAMP:20260424T191933Z
URL:https://business.hastingschamber.com/events/details/brick-by-brick-4267
END:VEVENT

END:VCALENDAR
