BEGIN:VCALENDAR
VERSION:2.0
PRODID:-//ChamberMaster//Event Calendar 2.0//EN
METHOD:PUBLISH
X-PUBLISHED-TTL:P3D
REFRESH-INTERVAL:P3D
CALSCALE:GREGORIAN
BEGIN:VEVENT
DTSTART:20230216T230000Z
DTEND:20230217T010000Z
X-MICROSOFT-CDO-ALLDAYEVENT:FALSE
SUMMARY:Business After Hours - Adams County Fairgrounds
DESCRIPTION:Business After Hours: \n\nAdams County Fairgrounds\n\n947 S Baltimore Ave\n\nThursday\, February 16th\, 2023\n\n5:00 pm - 7:00 pm
X-ALT-DESC;FMTTYPE=text/html:<div style="text-align: center\;"><span style="font-size:22px\;"><span style="color:#FF0000\;">Business After Hours:&nbsp\;</span><br />\nAdams County Fairgrounds<br />\n947 S Baltimore Ave</span></div>\n\n<div style="text-align: center\;"><span style="font-size:28px\;"><span style="font-size:22px\;">Thursday\, February&nbsp\;16th\, 2023<br />\n5:00 pm - 7:00 pm</span></span></div>\n
LOCATION:
UID:e.2898.2550
SEQUENCE:3
DTSTAMP:20260425T190044Z
URL:https://business.hastingschamber.com/events/details/business-after-hours-adams-county-fairgrounds-2550
END:VEVENT

END:VCALENDAR
