BEGIN:VCALENDAR
VERSION:2.0
PRODID:-//ChamberMaster//Event Calendar 2.0//EN
METHOD:PUBLISH
X-PUBLISHED-TTL:P3D
REFRESH-INTERVAL:P3D
CALSCALE:GREGORIAN
BEGIN:VEVENT
DTSTART:20230223T230000Z
DTEND:20230224T010000Z
X-MICROSOFT-CDO-ALLDAYEVENT:FALSE
SUMMARY:Business After Hours - Allo Fiber
DESCRIPTION:Business After Hours: \n\nAllo Fiber\n\nat Steeple Brewing Company\n\n717 W 1st St\n\nThursday\, February 23\, 2023\n\n5:00 pm - 7:00 pm
X-ALT-DESC;FMTTYPE=text/html:<div style="text-align: center\;"><span style="font-size:22px\;"><span style="color:#FF0000\;">Business After Hours:&nbsp\;</span><br />\nAllo Fiber<br />\nat Steeple Brewing Company<br />\n717 W 1st St</span></div>\n\n<div style="text-align: center\;"><span style="font-size:28px\;"><span style="font-size:22px\;">Thursday\, February 23\, 2023<br />\n5:00 pm - 7:00 pm</span></span></div>\n
LOCATION:
UID:e.2898.2171
SEQUENCE:3
DTSTAMP:20260425T190605Z
URL:https://business.hastingschamber.com/events/details/business-after-hours-allo-fiber-2171
END:VEVENT

END:VCALENDAR
