BEGIN:VCALENDAR
VERSION:2.0
PRODID:-//ChamberMaster//Event Calendar 2.0//EN
METHOD:PUBLISH
X-PUBLISHED-TTL:P3D
REFRESH-INTERVAL:P3D
CALSCALE:GREGORIAN
BEGIN:VEVENT
DTSTART;VALUE=DATE:20230331
DTEND;VALUE=DATE:20230401
TRANSP:TRANSPARENT
X-MICROSOFT-CDO-ALLDAYEVENT:TRUE
SUMMARY:Closed - Chamber Development Center
DESCRIPTION:Closed:\n\nStaff Training \n\nChamber Development Center\n\n301 S Burlington Ave\n\nFriday\, March 31\, 2023
X-ALT-DESC;FMTTYPE=text/html:<div style="text-align: center\;">\n<div style="text-align: center\;"><span style="font-size: 22px\;"><span style="color: rgb(255\, 0\, 0)\;">Closed:<br />\nStaff Training&nbsp\;</span><br />\nChamber Development Center<br />\n301 S Burlington Ave</span></div>\n\n<div style="text-align: center\;"><span style="font-size: 28px\;"><span style="font-size: 22px\;">Friday\, March&nbsp\;31\, 2023</span></span></div>\n</div>\n
LOCATION:
UID:e.2898.2722
SEQUENCE:3
DTSTAMP:20260421T200744Z
URL:https://business.hastingschamber.com/events/details/closed-chamber-development-center-2722
END:VEVENT

END:VCALENDAR
