BEGIN:VCALENDAR
VERSION:2.0
PRODID:-//ChamberMaster//Event Calendar 2.0//EN
METHOD:PUBLISH
X-PUBLISHED-TTL:P3D
REFRESH-INTERVAL:P3D
CALSCALE:GREGORIAN
BEGIN:VEVENT
DTSTART;VALUE=DATE:20251231
DTEND;VALUE=DATE:20260102
TRANSP:TRANSPARENT
X-MICROSOFT-CDO-ALLDAYEVENT:TRUE
SUMMARY:Closed - Chamber Development Center
DESCRIPTION:Closed for New Year's: \n\nChamber Development Center\n\n301 S Burlington Ave
X-ALT-DESC;FMTTYPE=text/html:<div style="text-align: center\;">\n<div style="text-align: center\;"><span style="font-size: 22px\;"><span style="color: rgb(255\, 0\, 0)\;">Closed for&nbsp\;New Year&#39\;s:&nbsp\;</span><br />\nChamber Development Center<br />\n301 S Burlington Ave</span></div>\n</div>\n
LOCATION:
UID:e.2898.3959
SEQUENCE:3
DTSTAMP:20260424T205928Z
URL:https://business.hastingschamber.com/events/details/closed-chamber-development-center-3959
END:VEVENT

END:VCALENDAR
