BEGIN:VCALENDAR
VERSION:2.0
PRODID:-//ChamberMaster//Event Calendar 2.0//EN
METHOD:PUBLISH
X-PUBLISHED-TTL:P3D
REFRESH-INTERVAL:P3D
CALSCALE:GREGORIAN
BEGIN:VEVENT
DTSTART:20251230T150000Z
DTEND:20251230T180000Z
X-MICROSOFT-CDO-ALLDAYEVENT:FALSE
SUMMARY:Craft Before Noon
DESCRIPTION:Craft Before Noon is our annual\, come-and-go creative session where guests can dive into free arts and crafts using a mix of fresh materials and our beloved odds-and-ends stash. It's an easygoing space to unwind\, connect with others\, and turn leftover supplies into something fun\, functional\, or beautifully unexpected. Stop by for free arts and crafts fun! No RSVP required. Get creative while putting our leftover supplies to good use.
X-ALT-DESC;FMTTYPE=text/html:Craft Before Noon is our annual\, come-and-go creative session where guests can dive into free arts and crafts using a mix of fresh materials and our beloved odds-and-ends stash. It&rsquo\;s an easygoing space to unwind\, connect with others\, and turn leftover supplies into something fun\, functional\, or beautifully unexpected. Stop by for free arts and crafts fun! No RSVP required. Get creative while putting our leftover supplies to good use.
LOCATION:Hastings Museum
UID:e.2898.4258
SEQUENCE:3
DTSTAMP:20260424T224121Z
URL:https://business.hastingschamber.com/events/details/craft-before-noon-4258
END:VEVENT

END:VCALENDAR
