BEGIN:VCALENDAR
VERSION:2.0
PRODID:-//ChamberMaster//Event Calendar 2.0//EN
METHOD:PUBLISH
X-PUBLISHED-TTL:P3D
REFRESH-INTERVAL:P3D
CALSCALE:GREGORIAN
BEGIN:VEVENT
DTSTART:20250115T173000Z
DTEND:20250115T180000Z
X-MICROSOFT-CDO-ALLDAYEVENT:FALSE
SUMMARY:Finance Committee Meeting
DESCRIPTION:Chamber Finance Committee Meeting:\n\nChamber Development Center\n\n301 South Burlington Avenue\n\n11:30 am - 12:00 pm
X-ALT-DESC;FMTTYPE=text/html:<div style="text-align: center\;"><span style="font-size:22px\;"><span style="color:#FF0000\;">Chamber&nbsp\;Finance Committee&nbsp\;Meeting:</span><br />\nChamber Development Center<br />\n301 South Burlington Avenue</span></div>\n\n<div style="text-align: center\;"><span style="font-size:22px\;">11:30 am - 12:00 pm</span></div>\n
LOCATION:
UID:e.2898.3968
SEQUENCE:3
DTSTAMP:20260421T123701Z
URL:https://business.hastingschamber.com/events/details/finance-committee-meeting-3968
END:VEVENT

END:VCALENDAR
