BEGIN:VCALENDAR
VERSION:2.0
PRODID:-//ChamberMaster//Event Calendar 2.0//EN
METHOD:PUBLISH
X-PUBLISHED-TTL:P3D
REFRESH-INTERVAL:P3D
CALSCALE:GREGORIAN
BEGIN:VEVENT
DTSTART:20260201T230000Z
DTEND:20260202T013000Z
X-MICROSOFT-CDO-ALLDAYEVENT:FALSE
SUMMARY:Gather Hastings - Evening of Worship
DESCRIPTION:An evening to gather the community of Hastings and surrounding areas to lift up the name of Jesus Christ through worship and the word of God! 5:00 pm Concessions Begin\, served by Hastings Catholic Schools Ministry Team 5:30 pm -7:30 pm Worship & the Word Music by Cruciform Collective Messages from: Keith Becker / Todd Becker Foundation Dale Phillips Revive Inc. Free will donations will be accepted\, with a portion of the proceeds donated back to Revive Inc. and the Todd Becker Foundation.
X-ALT-DESC;FMTTYPE=text/html:An evening to gather the community of Hastings and surrounding areas to lift up the name of Jesus Christ through worship and the word of God! 5:00 pm Concessions Begin\, served by Hastings Catholic Schools Ministry Team 5:30 pm -7:30 pm Worship &amp\; the Word Music by Cruciform Collective Messages from: Keith Becker / Todd Becker Foundation Dale Phillips Revive Inc. Free will donations will be accepted\, with a portion of the proceeds donated back to Revive Inc. and the Todd Becker Foundation.
LOCATION:Hastings City Auditorium 400 N Hastings Hastings\, NE 68901
UID:e.2898.4261
SEQUENCE:3
DTSTAMP:20260424T175745Z
URL:https://business.hastingschamber.com/events/details/gather-hastings-evening-of-worship-02-01-2026-4261
END:VEVENT

END:VCALENDAR
