BEGIN:VCALENDAR
VERSION:2.0
PRODID:-//ChamberMaster//Event Calendar 2.0//EN
METHOD:PUBLISH
X-PUBLISHED-TTL:P3D
REFRESH-INTERVAL:P3D
CALSCALE:GREGORIAN
BEGIN:VEVENT
DTSTART:20260201T230000Z
DTEND:20260202T013000Z
X-MICROSOFT-CDO-ALLDAYEVENT:FALSE
SUMMARY:Gather Hastings Evening of Worship at the Hastings City Auditorium
DESCRIPTION:The Gather Hastings Evening of Worship will be held on Sunday\, February 1\, 2026\, at the Hastings City Auditorium. Admission is free. At 5:00 pm\, concessions begin\, served by Hastings Catholic Schools Ministry Team. The program begins at 5:30 pm with Worship & the Word\, music by Cruciform Collective\, followed by messages from Keith Becker of the Todd Becker Foundation\, Dale Phillips\, and Revive Inc. Free will donations will be accepted\, with a portion of the proceeds donated back to Revive Inc. and the Todd Becker Foundation. For more information about this event\, please see the Facebook page listed below. For questions\, contact Jessica Walston by phone at (402) 705-2401 or by email at gatherhastings@gmail.com
X-ALT-DESC;FMTTYPE=text/html:The Gather Hastings Evening of Worship will be held on Sunday\, February 1\, 2026\, at the Hastings City Auditorium. Admission is free. At 5:00 pm\, concessions begin\, served by Hastings Catholic Schools Ministry Team. The program begins at 5:30 pm with Worship &amp\; the Word\, music by Cruciform Collective\, followed by messages from Keith Becker of the Todd Becker Foundation\, Dale Phillips\, and Revive Inc. Free will donations will be accepted\, with a portion of the proceeds donated back to Revive Inc. and the Todd Becker Foundation. For more information about this event\, please see the Facebook page listed below. For questions\, contact Jessica Walston by phone at (402) 705-2401 or by email at gatherhastings@gmail.com
LOCATION:Hastings City Auditorium 400 N Hastings Ave Hastings\, NE 68901 United States
UID:e.2898.4265
SEQUENCE:3
DTSTAMP:20260424T175900Z
URL:https://business.hastingschamber.com/events/details/gather-hastings-evening-of-worship-at-the-hastings-city-auditorium-4265
END:VEVENT

END:VCALENDAR
