BEGIN:VCALENDAR
VERSION:2.0
PRODID:-//ChamberMaster//Event Calendar 2.0//EN
METHOD:PUBLISH
X-PUBLISHED-TTL:P3D
REFRESH-INTERVAL:P3D
CALSCALE:GREGORIAN
BEGIN:VEVENT
DTSTART:20250726T130000Z
DTEND:20250726T170000Z
X-MICROSOFT-CDO-ALLDAYEVENT:FALSE
SUMMARY:Highland Farmers Market
DESCRIPTION:
X-ALT-DESC;FMTTYPE=text/html:
LOCATION:Highland Park
UID:e.2898.4134
SEQUENCE:3
DTSTAMP:20260422T070528Z
URL:https://business.hastingschamber.com/events/details/highland-farmers-market-07-26-2025-4134
END:VEVENT

END:VCALENDAR
