BEGIN:VCALENDAR
VERSION:2.0
PRODID:-//ChamberMaster//Event Calendar 2.0//EN
METHOD:PUBLISH
X-PUBLISHED-TTL:P3D
REFRESH-INTERVAL:P3D
CALSCALE:GREGORIAN
BEGIN:VEVENT
DTSTART:20260227T233000Z
DTEND:20260228T040000Z
X-MICROSOFT-CDO-ALLDAYEVENT:FALSE
SUMMARY:IF:One Night Women's Retreat
DESCRIPTION:IF:One Night Women's Retreat IF:One Night Women's Retreat is one night to stop\, fix our eyes on Jesus\, and be reminded that our time is short and our purpose is clear - to help everyone everywhere know HIM. A live-streamed event out of Dallas\, Texas\, with worship and speakers\, like Jennie Allen\, Christine Caine\, Francis Chan\, Jada Edwards\, and more. A meal will be served. February 27th\, 2026 5:30 pm - 10:00 pm First St. Paul's Lutheran Church 501 N. Burlington Ave Hastings\, NE 402-463-1329 $25.00 Registration fee Register at: firststpauls.elexiochms.com/external/form/ba1fe33f-a0df-4b98-b5f7-62c777b7dcc6
X-ALT-DESC;FMTTYPE=text/html:IF:One Night Women&rsquo\;s Retreat IF:One Night Women&#39\;s Retreat is one night to stop\, fix our eyes on Jesus\, and be reminded that our time is short and our purpose is clear - to help everyone everywhere know HIM. A live-streamed event out of Dallas\, Texas\, with worship and speakers\, like Jennie Allen\, Christine Caine\, Francis Chan\, Jada Edwards\, and more. A meal will be served. February 27th\, 2026 5:30 pm - 10:00 pm First St. Paul&#39\;s Lutheran Church 501 N. Burlington Ave Hastings\, NE 402-463-1329 $25.00 Registration fee Register at: firststpauls.elexiochms.com/external/form/ba1fe33f-a0df-4b98-b5f7-62c777b7dcc6
LOCATION:First St. Paul's Lutheran Church 501 N. Burlington Ave Hastings\, NE 402-463-1329
UID:e.2898.4264
SEQUENCE:3
DTSTAMP:20260424T175623Z
URL:https://business.hastingschamber.com/events/details/if-one-night-women-s-retreat-4264
END:VEVENT

END:VCALENDAR
