BEGIN:VCALENDAR
VERSION:2.0
PRODID:-//ChamberMaster//Event Calendar 2.0//EN
METHOD:PUBLISH
X-PUBLISHED-TTL:P3D
REFRESH-INTERVAL:P3D
CALSCALE:GREGORIAN
BEGIN:VEVENT
DTSTART:20260104T190000Z
DTEND:20260104T194500Z
X-MICROSOFT-CDO-ALLDAYEVENT:FALSE
SUMMARY:James Webb Telescope Highlights
DESCRIPTION:Experience the newest wonders of the universe right here at the Hastings Museum! Join Planetarium Coordinator Kirk Rosberg for an exciting look at the latest images from the James Webb Space Telescope. These breathtaking photos will be projected larger-than-life on our super screen as Kirk highlights new discoveries\, surprising details\, and the science behind these stunning views of deep space. This program is free and open to the public. No tickets or RSVP required. Just come early\, as seating is first come\, first served. Don't miss this chance to explore the cosmos with us!
X-ALT-DESC;FMTTYPE=text/html:Experience the newest wonders of the universe right here at the Hastings Museum! Join Planetarium Coordinator Kirk Rosberg for an exciting look at the latest images from the James Webb Space Telescope. These breathtaking photos will be projected larger-than-life on our super screen as Kirk highlights new discoveries\, surprising details\, and the science behind these stunning views of deep space. This program is free and open to the public. No tickets or RSVP required. Just come early\, as seating is first come\, first served. Don&rsquo\;t miss this chance to explore the cosmos with us!
LOCATION:Hastings Museum
UID:e.2898.4262
SEQUENCE:3
DTSTAMP:20260424T210035Z
URL:https://business.hastingschamber.com/events/details/james-webb-telescope-highlights-4262
END:VEVENT

END:VCALENDAR
