BEGIN:VCALENDAR
VERSION:2.0
PRODID:-//ChamberMaster//Event Calendar 2.0//EN
METHOD:PUBLISH
X-PUBLISHED-TTL:P3D
REFRESH-INTERVAL:P3D
CALSCALE:GREGORIAN
BEGIN:VEVENT
DTSTART:20250815T150000Z
DTEND:20250817T210000Z
X-MICROSOFT-CDO-ALLDAYEVENT:FALSE
SUMMARY:Kool-Aid Days at the Hastings Museum
DESCRIPTION:The Fairgrounds isn't the only place to enjoy Kool-Aid Days! This is a vibrant celebration that pays homage to the enduring legacy of the beloved sweet drink. Play FREE yard games\, drink Free Kool-Aid\, visit the Kool-Aid exhibit\, purchase your Kool-Aid merch\, watch a movie on the Super Screen\, experience a planetarium show\, complete a scavenger hunt\, meet the Kool-Aid man and so much more!
X-ALT-DESC;FMTTYPE=text/html:The Fairgrounds isn&#39\;t the only place to enjoy Kool-Aid Days! This is a vibrant celebration that pays homage to the enduring legacy of the beloved sweet drink. Play FREE yard games\, drink Free Kool-Aid\, visit the Kool-Aid exhibit\, purchase your Kool-Aid merch\, watch a movie on the Super Screen\, experience a planetarium show\, complete a scavenger hunt\, meet the Kool-Aid man and so much more!
LOCATION:Hastings Museum
UID:e.2898.4214
SEQUENCE:3
DTSTAMP:20260425T031635Z
URL:https://business.hastingschamber.com/events/details/kool-aid-days-at-the-hastings-museum-4214
END:VEVENT

END:VCALENDAR
