BEGIN:VCALENDAR
VERSION:2.0
PRODID:-//ChamberMaster//Event Calendar 2.0//EN
METHOD:PUBLISH
X-PUBLISHED-TTL:P3D
REFRESH-INTERVAL:P3D
CALSCALE:GREGORIAN
BEGIN:VEVENT
DTSTART:20250815T230000Z
DTEND:20250816T010000Z
X-MICROSOFT-CDO-ALLDAYEVENT:FALSE
SUMMARY:Kool-Aid Days Food Truck Friday
DESCRIPTION:Join us for Kool-Aid Days at the Hastings Museum on Friday\, August 15th from 6:00-8:00 pm for a night filled with food\, fun\, and festivities! Get a taste of Hastings and the surrounding communities! We will have a variety of local food trucks set up behind the Hastings Museum at Highland Park. A full list of trucks will be announced soon! Purchase a meal or treat and engage in our festivities happening inside and outdoors. We will have a FREE Kool-Aid stand with limited flavors\, yard games\, and more outside for everyone to enjoy. Roaming Greens Mini-Golf Co. will also have a FREE course set up for guests to enjoy!
X-ALT-DESC;FMTTYPE=text/html:Join us for Kool-Aid Days at the Hastings Museum on Friday\, August 15th from 6:00-8:00 pm for a night filled with food\, fun\, and festivities! Get a taste of Hastings and the surrounding communities! We will have a variety of local food trucks set up behind the Hastings Museum at Highland Park. A full list of trucks will be announced soon! Purchase a meal or treat and engage in our festivities happening inside and outdoors. We will have a FREE Kool-Aid stand with limited flavors\, yard games\, and more outside for everyone to enjoy. Roaming Greens Mini-Golf Co. will also have a FREE course set up for guests to enjoy!
LOCATION:Hastings Museum
UID:e.2898.4213
SEQUENCE:3
DTSTAMP:20260425T031523Z
URL:https://business.hastingschamber.com/events/details/kool-aid-days-food-truck-friday-4213
END:VEVENT

END:VCALENDAR
