BEGIN:VCALENDAR
VERSION:2.0
PRODID:-//ChamberMaster//Event Calendar 2.0//EN
METHOD:PUBLISH
X-PUBLISHED-TTL:P3D
REFRESH-INTERVAL:P3D
CALSCALE:GREGORIAN
BEGIN:VEVENT
DTSTART;VALUE=DATE:20250502
DTEND;VALUE=DATE:20250503
TRANSP:TRANSPARENT
X-MICROSOFT-CDO-ALLDAYEVENT:TRUE
SUMMARY:Leadership Hastings | Alumni Golf Tournament 2025
DESCRIPTION:Get ready to tee off for a great cause at the 11th Annual Leadership-Hastings Nebraska Open! On Friday\, May 2nd at noon\, we'll be taking over the stunning Elks Country Club for an 18-hole\, 4-person best ball scramble. And the best part? It's only $100 per player\, which includes your golf fees\, cart rental\, a delicious lunch\, and even some fantastic prizes!\n\n\n\nBut don't wait to sign up - payment is due by May 2nd\, and we'll be accepting payments on site.\n\nMust register HERE ahead of time.\n\nOther gameplay options will be available for purchase day of the tournament (CASH ONLY)\n\nSo gather your friends and colleagues\, and let's hit the links for a day of fun\, competition\, and community support. See you there!\n\n\n\nInterested in becoming a sponsor? Click Here\n\nRegister Now
X-ALT-DESC;FMTTYPE=text/html:<div class="x11i5rnm xat24cr x1mh8g0r x1vvkbs xdj266r x126k92a" color:="" font-size:="" segoe="" style="margin: 0px\; white-space: pre-wrap\; overflow-wrap: break-word\; font-family: " ui="">\n<div dir="auto" style="font-family: inherit\;"><span style="font-size:22px\;"><span style="font-family:arial\;">Get ready to tee off for a great cause at the 11th Annual <a class="x1i10hfl xjbqb8w x6umtig x1b1mbwd xaqea5y xav7gou x9f619 x1ypdohk xt0psk2 xe8uvvx xdj266r x11i5rnm xat24cr x1mh8g0r xexx8yu x4uap5 x18d9i69 xkhd6sd x16tdsg8 x1hl2dhg xggy1nq x1a2a7pz xt0b8zv x1qq9wsj xo1l8bm" href="https://www.facebook.com/leadershiphastings.nebraska?__cft__[0]=AZWVrrI_uWyxHJJK8NsZkoJXIYpCAMpSindqdX8EWFrs9ACSX_vtJ4GdpLsZP9_WtrHDaPYbnSeLJkr8YTjjcd5rHddt3SXkSSn2moqjroirOH8K6UpXzd80GbwLD_GDX8tKaNsFoAaN85EN91qHjvmPcB0dAJ8VnZ8PDoCOFQSEndT3Q7qLKDpkhyAsrx0c3WsVUEgUBEvrSbR8MTze_zIn&amp\;__tn__=-]K-R" role="link" style="color: var(--accent)\; cursor: pointer\; text-decoration-line: none\; margin: 0px\; text-align: inherit\; padding: 0px\; outline: none\; border-width: 0px\; border-style: initial\; border-color: initial\; -webkit-tap-highlight-color: transparent\; box-sizing: border-box\; list-style: none\; touch-action: manipulation\; background-color: transparent\; display: inline\; font-family: inherit\;" tabindex="0"><span class="xt0psk2" style="display: inline\;">Leadership-Hastings Nebraska</span></a> Open! On Friday\, May 2nd at noon\, we&#39\;ll be taking over the stunning Elks Country Club for an 18-hole\, 4-person best ball scramble. And the best part? It&#39\;s only $100 per player\, which includes your golf fees\, cart rental\, a delicious lunch\, and even some fantastic prizes!</span></span></div>\n</div>\n\n<div class="x11i5rnm xat24cr x1mh8g0r x1vvkbs xtlvy1s x126k92a" color:="" font-size:="" segoe="" style="margin: 0.5em 0px 0px\; white-space: pre-wrap\; overflow-wrap: break-word\; font-family: " ui="">\n<div dir="auto" style="font-family: inherit\;"><span style="font-size:22px\;"><span style="font-family:arial\;">But don&#39\;t wait to sign up - payment is due by May 2nd\, and we&#39\;ll be accepting payments on site.<br />\nMust register <span style="font-size:26px\;"><strong>HERE</strong></span> ahead of time.</span></span><br />\n<span style="font-family: arial\; font-size: 22px\; white-space-collapse: preserve\;">Other gameplay options will be available for purchase day of the tournament (CASH ONLY)</span><br />\n<span style="font-size:22px\;"><span style="font-family:arial\;">So gather your friends and colleagues\, and let&#39\;s hit the links for a day of fun\, competition\, and community support. See you there!</span></span></div>\n</div>\n\n<div class="x11i5rnm xat24cr x1mh8g0r x1vvkbs xtlvy1s x126k92a" color:="" font-size:="" segoe="" style="margin: 0.5em 0px 0px\; white-space: pre-wrap\; overflow-wrap: break-word\; font-family: " ui="">\n<div dir="auto" style="font-family: inherit\;"><span style="font-size:22px\;"><span style="font-family:arial\;">Interested in becoming a sponsor? <strong>Click Here</strong></span></span><br />\n<span style="font-size:22px\;"><span style="font-family:arial\;"><strong>Register Now</strong></span></span><br />\n&nbsp\;</div>\n</div>\n
LOCATION:
UID:e.2898.4087
SEQUENCE:3
DTSTAMP:20260425T033238Z
URL:https://business.hastingschamber.com/events/details/leadership-hastings-alumni-golf-tournament-2025-4087
END:VEVENT

END:VCALENDAR
