BEGIN:VCALENDAR
VERSION:2.0
PRODID:-//ChamberMaster//Event Calendar 2.0//EN
METHOD:PUBLISH
X-PUBLISHED-TTL:P3D
REFRESH-INTERVAL:P3D
CALSCALE:GREGORIAN
BEGIN:VEVENT
DTSTART:20260110T200000Z
DTEND:20260110T220000Z
X-MICROSOFT-CDO-ALLDAYEVENT:FALSE
SUMMARY:Lights\, Camera\, Craft
DESCRIPTION:Get ready for a cozy afternoon of creativity and fun at our brand-new event series: Lights\, Camera\, Craft! Bring your favorite crafting supplies and settle in as we dim the lights and screen the rom-com classic How to Lose a Guy in 10 Days. Doors open at 1:30 p.m.\, giving you plenty of time to choose your spot and get your project set up. The film will begin at 2:00 p.m. Heads up\, crafters! We're not supplying tables or materials this time around. We'll have the cozy vibes\, dimmed lights\, and the movie on the super screen. Bring your favorite projects and make the space your own! It's the perfect way to unwind\, craft at your own pace\, enjoy a feel-good movie\, and spend time with friends in a relaxed\, welcoming atmosphere. Come create\, laugh\, and make an afternoon of it!
X-ALT-DESC;FMTTYPE=text/html:Get ready for a cozy afternoon of creativity and fun at our brand-new event series: Lights\, Camera\, Craft! Bring your favorite crafting supplies and settle in as we dim the lights and screen the rom-com classic How to Lose a Guy in 10 Days. Doors open at 1:30 p.m.\, giving you plenty of time to choose your spot and get your project set up. The film will begin at 2:00 p.m. Heads up\, crafters! We&rsquo\;re not supplying tables or materials this time around. We&#39\;ll have the cozy vibes\, dimmed lights\, and the movie on the super screen. Bring your favorite projects and make the space your own! It&rsquo\;s the perfect way to unwind\, craft at your own pace\, enjoy a feel-good movie\, and spend time with friends in a relaxed\, welcoming atmosphere. Come create\, laugh\, and make an afternoon of it!
LOCATION:Hastings Museum
UID:e.2898.4263
SEQUENCE:3
DTSTAMP:20260424T192554Z
URL:https://business.hastingschamber.com/events/details/lights-camera-craft-4263
END:VEVENT

END:VCALENDAR
