BEGIN:VCALENDAR
VERSION:2.0
PRODID:-//ChamberMaster//Event Calendar 2.0//EN
METHOD:PUBLISH
X-PUBLISHED-TTL:P3D
REFRESH-INTERVAL:P3D
CALSCALE:GREGORIAN
BEGIN:VEVENT
DTSTART:20230415T003000Z
DTEND:20230415T030000Z
X-MICROSOFT-CDO-ALLDAYEVENT:FALSE
SUMMARY:Live Music at Lark & Listening Room
DESCRIPTION:Join us at The Lark on Friday\, April 14th for live music with Moors & McCumber\, a Listening Room Concert Series. Full bar. D?oors open at 6:30pm\, show begins at 7:30. G?endre: Folk | Rock | Celtic
X-ALT-DESC;FMTTYPE=text/html:Join us at The Lark on Friday\, April 14th for live music with Moors &amp\; McCumber\, a Listening Room Concert Series. Full bar. D?oors open at 6:30pm\, show begins at 7:30. G?endre: Folk | Rock | Celtic
LOCATION:809 West 2nd Street\, Hastings\, NE
UID:e.2898.2725
SEQUENCE:3
DTSTAMP:20260420T050337Z
URL:https://business.hastingschamber.com/events/details/live-music-at-lark-listening-room-2725
END:VEVENT

END:VCALENDAR
