BEGIN:VCALENDAR
VERSION:2.0
PRODID:-//ChamberMaster//Event Calendar 2.0//EN
METHOD:PUBLISH
X-PUBLISHED-TTL:P3D
REFRESH-INTERVAL:P3D
CALSCALE:GREGORIAN
BEGIN:VEVENT
DTSTART:20230215T220000Z
DTEND:20230216T000000Z
X-MICROSOFT-CDO-ALLDAYEVENT:FALSE
SUMMARY:Meet & Greet with Shawn Metcalf
DESCRIPTION:MEET & GREET\n\nwith Shawn Metcalf\n\nJoin\, ask questions\, and get to know Hastings' NEW City Administrator.\n\n\n\nFebruary 15\, 2023\n\n4:00pm - 6:00pm\n\nBlue Fork Kitchen
X-ALT-DESC;FMTTYPE=text/html:<h1 style="text-align: center\;"><span style="font-size:28px\;">MEET &amp\; GREET</span></h1>\n\n<div style="text-align: center\;"><span style="color:#FF0000\;"><span style="font-size:16px\;"><span style="font-size:18px\;">with Shawn Metcalf</span></span></span><br />\n<span style="font-size:16px\;"><span style="font-size:18px\;">Join\, ask questions\, and get to know Hastings&#39\; NEW City Administrator.<br />\n<br />\nFebruary 15\, 2023<br />\n4:00pm - 6:00pm<br />\nBlue Fork Kitchen</span></span></div>\n
LOCATION:
UID:e.2898.2261
SEQUENCE:3
DTSTAMP:20260425T201846Z
URL:https://business.hastingschamber.com/events/details/meet-greet-with-shawn-metcalf-2261
END:VEVENT

END:VCALENDAR
