BEGIN:VCALENDAR
VERSION:2.0
PRODID:-//ChamberMaster//Event Calendar 2.0//EN
METHOD:PUBLISH
X-PUBLISHED-TTL:P3D
REFRESH-INTERVAL:P3D
CALSCALE:GREGORIAN
BEGIN:VEVENT
DTSTART:20250201T233000Z
DTEND:20250202T030000Z
X-MICROSOFT-CDO-ALLDAYEVENT:FALSE
SUMMARY:Mint Fundraising Gala
DESCRIPTION:Prepare Yourself for a Pristine Celebration Saturday\, February 1\, 2025 Lochland Country Club Reserve Your Seat Online at encouragecenter.org/mint Classic. Elegant. Valued. When it's Mint\, you know it's something special. Shiny new like it's just off the press\, fresh out of the box. That's the evening enCourage Advocacy Center has planned for you   because everyone deserves to be treasured. 5:30 p.m. Social Hour Featuring Our Signature Cocktail/Mocktail Challenge\, Silent Auction\, Dinner & Live Auction to follow. When we're all valued\, we all benefit. A community without violence benefits us all. Proceeds of Mint will help enCourage Advocacy Center to address root causes of abuse and violence in Adams\, Nuckolls\, Clay\, and Webster counties and promote safe\, nonviolent communities. $85 Per Person | $600 Reserved Table for 8 Signature Cocktail Glass With Tasting: Additional $30 Per Person Reserve Your Seat Online at encouragecenter.org/mint
X-ALT-DESC;FMTTYPE=text/html:Prepare Yourself for a Pristine Celebration Saturday\, February 1\, 2025 Lochland Country Club Reserve Your Seat Online at encouragecenter.org/mint Classic. Elegant. Valued. When it&rsquo\;s Mint\, you know it&rsquo\;s something special. Shiny new like it&rsquo\;s just off the press\, fresh out of the box. That&rsquo\;s the evening enCourage Advocacy Center has planned for you &hellip\; because everyone deserves to be treasured. 5:30 p.m. Social Hour Featuring Our Signature Cocktail/Mocktail Challenge\, Silent Auction\, Dinner &amp\; Live Auction to follow. When we&rsquo\;re all valued\, we all benefit. A community without violence benefits us all. Proceeds of Mint will help enCourage Advocacy Center to address root causes of abuse and violence in Adams\, Nuckolls\, Clay\, and Webster counties and promote safe\, nonviolent communities. $85 Per Person | $600 Reserved Table for 8 Signature Cocktail Glass With Tasting: Additional $30 Per Person Reserve Your Seat Online at encouragecenter.org/mint
LOCATION:
UID:e.2898.3961
SEQUENCE:3
DTSTAMP:20260421T061643Z
URL:https://business.hastingschamber.com/events/details/mint-fundraising-gala-3961
END:VEVENT

END:VCALENDAR
