BEGIN:VCALENDAR
VERSION:2.0
PRODID:-//ChamberMaster//Event Calendar 2.0//EN
METHOD:PUBLISH
X-PUBLISHED-TTL:P3D
REFRESH-INTERVAL:P3D
CALSCALE:GREGORIAN
BEGIN:VEVENT
DTSTART:20260101T020000Z
DTEND:20260101T063000Z
X-MICROSOFT-CDO-ALLDAYEVENT:FALSE
SUMMARY:NYE Party: Silent Dance Party & Casino Night
DESCRIPTION:Hastings Catholic Activities Association Presents: NEW YEAR'S EVE SILENT DANCE PARTY & CASINO NIGHT WEDNESDAY\, DECEMBER 31 8:00PM to 12:30AM COTERIE SOCIAL CLUB 338 W SECOND ST | HASTINGS Get ready for a New Year's Eve like no other - we're taking over the brand-new Coterie Social Club for a night of music\, energy and unforgettable moments! After dancing the night away with our Silent Dance Party and trying your hand at Casino Games\, we'll welcome in 2026 together with a toast at 12:00AM. SILENT DANCE PARTY A silent dance party is a dance party where everyone wears provided wireless headphones  so the room looks quiet\, but everyone is jamming out to their own music channel and dancing like crazy. It's a dance floor that sounds silent but feels like a blast! Cash Bar Light Snacks Charcuterie by pre-order through ticket form PREMIER TABLE | $750 front row table for 8 guests 2 drink tickets per person $20 casino chips per person Champagne Toast RESERVED TABLE | $500 reserved table for 8 guests 1 drink ticket per person $10 casino chips per person Champagne Toast INDIVIDUAL TICKET | $50 1 drink ticket $10 casino chips first-come\, first-served seating Purchase Your Tickets Now! https://forms.diamondmindinc.com/hastings/nye25 or by calling 402.462.6566
X-ALT-DESC;FMTTYPE=text/html:Hastings Catholic Activities Association Presents: NEW YEAR&rsquo\;S EVE SILENT DANCE PARTY &amp\; CASINO NIGHT WEDNESDAY\, DECEMBER 31 8:00PM to 12:30AM COTERIE SOCIAL CLUB 338 W SECOND ST | HASTINGS Get ready for a New Year&rsquo\;s Eve like no other - we&rsquo\;re taking over the brand-new Coterie Social Club for a night of music\, energy and unforgettable moments! After dancing the night away with our Silent Dance Party and trying your hand at Casino Games\, we&rsquo\;ll welcome in 2026 together with a toast at 12:00AM. SILENT DANCE PARTY A silent dance party is a dance party where everyone wears provided wireless headphones &mdash\;so the room looks quiet\, but everyone is jamming out to their own music channel and dancing like crazy. It&rsquo\;s a dance floor that sounds silent but feels like a blast! Cash Bar Light Snacks Charcuterie by pre-order through ticket form PREMIER TABLE | $750 front row table for 8 guests 2 drink tickets per person $20 casino chips per person Champagne Toast RESERVED TABLE | $500 reserved table for 8 guests 1 drink ticket per person $10 casino chips per person Champagne Toast INDIVIDUAL TICKET | $50 1 drink ticket $10 casino chips first-come\, first-served seating Purchase Your Tickets Now! https://forms.diamondmindinc.com/hastings/nye25 or by calling 402.462.6566
LOCATION:COTERIE SOCIAL CLUB 338 W SECOND ST | HASTINGS
UID:e.2898.4251
SEQUENCE:3
DTSTAMP:20260424T192716Z
URL:https://business.hastingschamber.com/events/details/nye-party-silent-dance-party-casino-night-4251
END:VEVENT

END:VCALENDAR
