BEGIN:VCALENDAR
VERSION:2.0
PRODID:-//ChamberMaster//Event Calendar 2.0//EN
METHOD:PUBLISH
X-PUBLISHED-TTL:P3D
REFRESH-INTERVAL:P3D
CALSCALE:GREGORIAN
BEGIN:VEVENT
DTSTART:20250817T000000Z
DTEND:20250817T020000Z
X-MICROSOFT-CDO-ALLDAYEVENT:FALSE
SUMMARY:Oregon Trail Rodeo
DESCRIPTION:Yee haw! It's rodeo time! Saddle your horse and head to town! The annual Oregon Trail Rodeo rides into Hastings August 15-17. Old West meets young cowboys\, as they match up with the toughest broncs and bulls and gun for the prize money! Witness bronc riding\, roping\, barrel racing\, and the grand finale\, bull riding! Enjoy Kool-Aid Days activities during the day at the fairgrounds and rodeo each night! Fireworks follow the rodeo on August 16. A free barbecue for all ticket-holders on August 15\, prior to the rodeo. Saturday\, August 16 is Tough Enough to Wear Pink night at the rodeo. Fans and cowboys alike are encouraged to wear pink to support breast cancer awareness. For every ticket purchased for the Saturday night rodeo\, $1 will be given to the Morrison Cancer Center at Mary Lanning Hospital. Advance tickets are available at the Adams Co. Fairgrounds and at the gate. Don't miss all the fun! For more information\, visit www.adamscountyfairgrounds.com or call 888-462-3247. Free parking\; food vendors on site.
X-ALT-DESC;FMTTYPE=text/html:Yee haw! It&rsquo\;s rodeo time! Saddle your horse and head to town! The annual Oregon Trail Rodeo rides into Hastings August 15-17. Old West meets young cowboys\, as they match up with the toughest broncs and bulls and gun for the prize money! Witness bronc riding\, roping\, barrel racing\, and the grand finale\, bull riding! Enjoy Kool-Aid Days activities during the day at the fairgrounds and rodeo each night! Fireworks follow the rodeo on August 16. A free barbecue for all ticket-holders on August 15\, prior to the rodeo. Saturday\, August 16 is Tough Enough to Wear Pink night at the rodeo. Fans and cowboys alike are encouraged to wear pink to support breast cancer awareness. For every ticket purchased for the Saturday night rodeo\, $1 will be given to the Morrison Cancer Center at Mary Lanning Hospital. Advance tickets are available at the Adams Co. Fairgrounds and at the gate. Don&rsquo\;t miss all the fun! For more information\, visit www.adamscountyfairgrounds.com or call 888-462-3247. Free parking\; food vendors on site.
LOCATION:Adams County Fairgrounds\, 947 S. Baltimore Avenue\, Hastings
UID:e.2898.4056
SEQUENCE:3
DTSTAMP:20260425T031635Z
URL:https://business.hastingschamber.com/events/details/oregon-trail-rodeo-08-16-2025-4056
END:VEVENT

END:VCALENDAR
