BEGIN:VCALENDAR
VERSION:2.0
PRODID:-//ChamberMaster//Event Calendar 2.0//EN
METHOD:PUBLISH
X-PUBLISHED-TTL:P3D
REFRESH-INTERVAL:P3D
CALSCALE:GREGORIAN
BEGIN:VEVENT
DTSTART:20230205T140000Z
DTEND:20230205T200000Z
X-MICROSOFT-CDO-ALLDAYEVENT:FALSE
SUMMARY:Pancake Feed
DESCRIPTION:Adams County 4H Trap is having a free will donation pancake feed.
X-ALT-DESC;FMTTYPE=text/html:Adams County 4H Trap is having a free will donation pancake feed.
LOCATION:Adams Co Fairgrounds-Community Services building
UID:e.2898.2257
SEQUENCE:3
DTSTAMP:20260425T201456Z
URL:https://business.hastingschamber.com/events/details/pancake-feed-2257
END:VEVENT

END:VCALENDAR
