BEGIN:VCALENDAR
VERSION:2.0
PRODID:-//ChamberMaster//Event Calendar 2.0//EN
METHOD:PUBLISH
X-PUBLISHED-TTL:P3D
REFRESH-INTERVAL:P3D
CALSCALE:GREGORIAN
BEGIN:VEVENT
DTSTART:20230209T133000Z
DTEND:20230209T143000Z
X-MICROSOFT-CDO-ALLDAYEVENT:FALSE
SUMMARY:Retail Meeting
DESCRIPTION:Retail Meeting:\n\nChamber Development Center\n\n301 South Burlington Avenue\n\n7:30 am - 8:30 am
X-ALT-DESC;FMTTYPE=text/html:<div style="text-align: center\;"><span style="font-size: 22px\; text-align: center\; color: rgb(255\, 0\, 0)\;">Retail Meeting:</span><br style="font-size: 22px\; text-align: center\;" />\n<span style="font-size: 22px\; text-align: center\;">Chamber Development Center</span><br style="font-size: 22px\; text-align: center\;" />\n<span style="font-size: 22px\; text-align: center\;">301 South Burlington Avenue</span></div>\n\n<div style="text-align: center\;"><span style="font-size: 22px\; text-align: center\;">7:30 am - 8:30 am</span></div>\n
LOCATION:
UID:e.2898.1848
SEQUENCE:3
DTSTAMP:20260425T185451Z
URL:https://business.hastingschamber.com/events/details/retail-meeting-02-09-2023-1848
END:VEVENT

END:VCALENDAR
