BEGIN:VCALENDAR
VERSION:2.0
PRODID:-//ChamberMaster//Event Calendar 2.0//EN
METHOD:PUBLISH
X-PUBLISHED-TTL:P3D
REFRESH-INTERVAL:P3D
CALSCALE:GREGORIAN
BEGIN:VEVENT
DTSTART:20230201T224500Z
DTEND:20230201T231500Z
X-MICROSOFT-CDO-ALLDAYEVENT:FALSE
SUMMARY:Ribbon Cutting - PC Service of Nebraska
DESCRIPTION:Ribbon Cutting\n\nPC Service of Nebraska\n\n208 S. Burlington Ave Suite 114\n\nWednesday\, February 1\, 2023\n\n4:45 pm - 5:15 pm
X-ALT-DESC;FMTTYPE=text/html:<div style="text-align: center\;"><span style="font-size:22px\;"><span style="color:#FF0000\;">Ribbon Cutting</span><br />\nPC Service of Nebraska<br />\n208 S. Burlington Ave Suite 114<br />\nWednesday\, February 1\, 2023<br />\n4:45&nbsp\;pm - 5:15&nbsp\;pm</span></div>\n
LOCATION:
UID:e.2898.2264
SEQUENCE:3
DTSTAMP:20260425T185129Z
URL:https://business.hastingschamber.com/events/details/ribbon-cutting-pc-service-of-nebraska-2264
END:VEVENT

END:VCALENDAR
