BEGIN:VCALENDAR
VERSION:2.0
PRODID:-//ChamberMaster//Event Calendar 2.0//EN
METHOD:PUBLISH
X-PUBLISHED-TTL:P3D
REFRESH-INTERVAL:P3D
CALSCALE:GREGORIAN
BEGIN:VEVENT
DTSTART:20250814T233000Z
DTEND:20250815T010000Z
X-MICROSOFT-CDO-ALLDAYEVENT:FALSE
SUMMARY:Songwriting Workshop with the Talbott Brothers
DESCRIPTION:The Hastings Museum is proud to present a dynamic and engaging all-ages songwriting workshop with The Talbott Brothers. This workshop is designed for aspiring artists and musicians who want to build a successful foundation in today's ever-evolving music industry. Whether you're just beginning your musical journey or looking to take your skills to the next level\, this session offers valuable insights and hands-on guidance across three core areas: songwriting\, the business of music\, and social media.
X-ALT-DESC;FMTTYPE=text/html:The Hastings Museum is proud to present a dynamic and engaging all-ages songwriting workshop with The Talbott Brothers. This workshop is designed for aspiring artists and musicians who want to build a successful foundation in today&rsquo\;s ever-evolving music industry. Whether you&rsquo\;re just beginning your musical journey or looking to take your skills to the next level\, this session offers valuable insights and hands-on guidance across three core areas: songwriting\, the business of music\, and social media.
LOCATION:Hastings Museum
UID:e.2898.4212
SEQUENCE:3
DTSTAMP:20260425T031432Z
URL:https://business.hastingschamber.com/events/details/songwriting-workshop-with-the-talbott-brothers-4212
END:VEVENT

END:VCALENDAR
