BEGIN:VCALENDAR
VERSION:2.0
PRODID:-//ChamberMaster//Event Calendar 2.0//EN
METHOD:PUBLISH
X-PUBLISHED-TTL:P3D
REFRESH-INTERVAL:P3D
CALSCALE:GREGORIAN
BEGIN:VEVENT
DTSTART:20260114T230000Z
DTEND:20260115T000000Z
X-MICROSOFT-CDO-ALLDAYEVENT:FALSE
SUMMARY:St. Michael Preschool Preview Night
DESCRIPTION:Dear Family of a Future or Current Preschooler! The preschool years of a child's life bring so much excitement and joy and we would love to be a part this important time. We would like to personally invite you and your preschooler to come see what St. Michael Preschool has to offer. Our preschool program\, based in a bright\, Christian environment\, focuses on play-based learning techniques and encourages preparation for Kindergarten. Our preschoolers spend time with elementary teachers during special classes like music\, library and P.E. We are also blessed to be able to offer on-site Childcare to help ease the stress of pick-up/drop-off schedules. We invite you to come see what we're all about during one of our commitment-free Preschool Preview nights!
X-ALT-DESC;FMTTYPE=text/html:Dear Family of a Future or Current Preschooler! The preschool years of a child&rsquo\;s life bring so much excitement and joy and we would love to be a part this important time. We would like to personally invite you and your preschooler to come see what St. Michael Preschool has to offer. Our preschool program\, based in a bright\, Christian environment\, focuses on play-based learning techniques and encourages preparation for Kindergarten. Our preschoolers spend time with elementary teachers during special classes like music\, library and P.E. We are also blessed to be able to offer on-site Childcare to help ease the stress of pick-up/drop-off schedules. We invite you to come see what we&rsquo\;re all about during one of our commitment-free Preschool Preview nights!
LOCATION:St. Michael Elementary School 721 Creighton Ave.\, Hastings
UID:e.2898.4254
SEQUENCE:3
DTSTAMP:20260424T193330Z
URL:https://business.hastingschamber.com/events/details/st-michael-preschool-preview-night-01-14-2026-4254
END:VEVENT

END:VCALENDAR
