BEGIN:VCALENDAR
VERSION:2.0
PRODID:-//ChamberMaster//Event Calendar 2.0//EN
METHOD:PUBLISH
X-PUBLISHED-TTL:P3D
REFRESH-INTERVAL:P3D
CALSCALE:GREGORIAN
BEGIN:VEVENT
DTSTART:20250207T233000Z
DTEND:20250208T033000Z
X-MICROSOFT-CDO-ALLDAYEVENT:FALSE
SUMMARY:Steak & Ale Fundraising Event
DESCRIPTION:SAVE THE DATE: Join us Friday\, February 7th for Steak & Ale! A fundraising event to help support Prairie Loft Center for Outdoor and Agricultural Learning. This casual evening of philanthropy includes a delicious meal\, silent and live auctions to support Prairie Loft's Workshop Renewal Capital Project to enhance the mission delivery of teaching outdoor education\, agricultural appreciation\, cultural connections and the wise use of natural resources. TICKETS AVAILABLE ONLINE: https://www.prairieloft.org/community-events
X-ALT-DESC;FMTTYPE=text/html:SAVE THE DATE: Join us Friday\, February 7th for Steak &amp\; Ale! A fundraising event to help support Prairie Loft Center for Outdoor and Agricultural Learning. This casual evening of philanthropy includes a delicious meal\, silent and live auctions to support Prairie Loft&#39\;s Workshop Renewal Capital Project to enhance the mission delivery of teaching outdoor education\, agricultural appreciation\, cultural connections and the wise use of natural resources. TICKETS AVAILABLE ONLINE: https://www.prairieloft.org/community-events
LOCATION:
UID:e.2898.3960
SEQUENCE:3
DTSTAMP:20260421T105946Z
URL:https://business.hastingschamber.com/events/details/steak-ale-fundraising-event-3960
END:VEVENT

END:VCALENDAR
