BEGIN:VCALENDAR
VERSION:2.0
PRODID:-//ChamberMaster//Event Calendar 2.0//EN
METHOD:PUBLISH
X-PUBLISHED-TTL:P3D
REFRESH-INTERVAL:P3D
CALSCALE:GREGORIAN
BEGIN:VEVENT
DTSTART:20230213T180000Z
DTEND:20230213T190000Z
X-MICROSOFT-CDO-ALLDAYEVENT:FALSE
SUMMARY:Topics at Twelve with Murray Natural Integrated Health\, LLC
DESCRIPTION:Topics at Twelve\n\nMurray Natural Integrated Health\, LLC\n\n301 S. Burlington Ave \n\nMonday\, February 13\, 2023\n\n12:00 pm - 1:00 pm\n\nTo register call 402-461-8400
X-ALT-DESC;FMTTYPE=text/html:<div style="text-align: center\;"><span style="font-size: 22px\; text-align: center\; color: rgb(255\, 0\, 0)\;">Topics at Twelve</span><br style="font-size: 22px\; text-align: center\;" />\n<span style="font-size:22px\;">Murray Natural Integrated Health\, LLC</span><br style="font-size: 22px\; text-align: center\;" />\n<span style="font-size: 22px\; text-align: center\;">301 S. Burlington Ave&nbsp\;</span><br style="font-size: 22px\; text-align: center\;" />\n<span style="font-size: 22px\; text-align: center\;">Monday\, February 13\, 2023</span><br style="font-size: 22px\; text-align: center\;" />\n<span style="font-size: 22px\; text-align: center\;">12:00&nbsp\;pm - 1:00 pm<br />\nTo register call 402-461-8400</span></div>\n
LOCATION:
UID:e.2898.2552
SEQUENCE:3
DTSTAMP:20260425T185535Z
URL:https://business.hastingschamber.com/events/details/topics-at-twelve-with-murray-natural-integrated-health-llc-2552
END:VEVENT

END:VCALENDAR
