BEGIN:VCALENDAR
VERSION:2.0
PRODID:-//ChamberMaster//Event Calendar 2.0//EN
METHOD:PUBLISH
X-PUBLISHED-TTL:P3D
REFRESH-INTERVAL:P3D
CALSCALE:GREGORIAN
BEGIN:VEVENT
DTSTART:20250809T190000Z
DTEND:20250809T210000Z
X-MICROSOFT-CDO-ALLDAYEVENT:FALSE
SUMMARY:Wild Wonders: Tail Talks
DESCRIPTION:Wild Wonders is a nature-based family program that takes place every other month. Each program centers around a hands-on nature topic. This is a great opportunity for ages 5 and up\, as well as adults\, to learn and explore the natural world around us! If you had a tail\, what would you use it for? In this class\, we will talk about how different animals use their tails for different tasks. From helping creatures maintain balance to communicating emotions and even for defending themselves\, we will embark on a journey to discuss all the diversity of tail functions. Join us at the Hastings Museum on August 9 for a tail-tastic time!
X-ALT-DESC;FMTTYPE=text/html:Wild Wonders is a nature-based family program that takes place every other month. Each program centers around a hands-on nature topic. This is a great opportunity for ages 5 and up\, as well as adults\, to learn and explore the natural world around us! If you had a tail\, what would you use it for? In this class\, we will talk about how different animals use their tails for different tasks. From helping creatures maintain balance to communicating emotions and even for defending themselves\, we will embark on a journey to discuss all the diversity of tail functions. Join us at the Hastings Museum on August 9 for a tail-tastic time!
LOCATION:Hastings Museum
UID:e.2898.4215
SEQUENCE:3
DTSTAMP:20260425T031226Z
URL:https://business.hastingschamber.com/events/details/wild-wonders-tail-talks-4215
END:VEVENT

END:VCALENDAR
