BEGIN:VCALENDAR
VERSION:2.0
PRODID:-//ChamberMaster//Event Calendar 2.0//EN
METHOD:PUBLISH
X-PUBLISHED-TTL:P3D
REFRESH-INTERVAL:P3D
CALSCALE:GREGORIAN
BEGIN:VEVENT
DTSTART:20250222T163000Z
DTEND:20250222T190000Z
X-MICROSOFT-CDO-ALLDAYEVENT:FALSE
SUMMARY:YWCA Table Setting Fundraiser
DESCRIPTION:
X-ALT-DESC;FMTTYPE=text/html:
LOCATION:YWCA Adams County
UID:e.2898.3964
SEQUENCE:3
DTSTAMP:20260421T105530Z
URL:https://business.hastingschamber.com/events/details/ywca-table-setting-fundraiser-3964
END:VEVENT

END:VCALENDAR
